BEGIN:VCALENDAR
VERSION:2.0
PRODID:-//soulcalm - ECPv6.15.20//NONSGML v1.0//EN
CALSCALE:GREGORIAN
METHOD:PUBLISH
X-ORIGINAL-URL:https://soulcalm.ca
X-WR-CALDESC:Events for soulcalm
REFRESH-INTERVAL;VALUE=DURATION:PT1H
X-Robots-Tag:noindex
X-PUBLISHED-TTL:PT1H
BEGIN:VTIMEZONE
TZID:America/Toronto
BEGIN:DAYLIGHT
TZOFFSETFROM:-0500
TZOFFSETTO:-0400
TZNAME:EDT
DTSTART:20250309T070000
END:DAYLIGHT
BEGIN:STANDARD
TZOFFSETFROM:-0400
TZOFFSETTO:-0500
TZNAME:EST
DTSTART:20251102T060000
END:STANDARD
BEGIN:DAYLIGHT
TZOFFSETFROM:-0500
TZOFFSETTO:-0400
TZNAME:EDT
DTSTART:20260308T070000
END:DAYLIGHT
BEGIN:STANDARD
TZOFFSETFROM:-0400
TZOFFSETTO:-0500
TZNAME:EST
DTSTART:20261101T060000
END:STANDARD
BEGIN:DAYLIGHT
TZOFFSETFROM:-0500
TZOFFSETTO:-0400
TZNAME:EDT
DTSTART:20270314T070000
END:DAYLIGHT
BEGIN:STANDARD
TZOFFSETFROM:-0400
TZOFFSETTO:-0500
TZNAME:EST
DTSTART:20271107T060000
END:STANDARD
END:VTIMEZONE
BEGIN:VEVENT
DTSTART;TZID=America/Toronto:20260214T180000
DTEND;TZID=America/Toronto:20260214T191500
DTSTAMP:20260419T161014
CREATED:20260120T142912Z
LAST-MODIFIED:20260123T214847Z
UID:245713-1771092000-1771096500@soulcalm.ca
SUMMARY:resonance circle SOLD OUT
DESCRIPTION:resonance circle: in the presence of love\n\nSOLD OUT\n\n\n\n\n\n\n\nan evening devoted to embracing love\nas pure presence\nnot as an idea\,\nbut as a lived experience. \nheld around the heart centre\,\nthis gathering invites a gentle return\nto the space where presence becomes felt\,\nwhere connection is no longer effort\,\nand where love is revealed as simple awareness. \nthrough shared stillness\, subtle Reiki\, and a sound resonance journey\,\nwe enter a field of being\nnothing to strive for\, nothing to become\nonly a moment of being held\nin presence\, in sound\, in awareness. \nwith Layla Haroon (sound resonance facilitator) & Brian Banks (Reiki master) \n\n\n\n\n\n\n\n\n\n\n\ncontribution & energy exchange \nto honour the space and energy we co-create\, a contribution of $40 per guest supports this gathering. \nif you are genuinely navigating financial hardship\, yet feel deeply called to the experience\, you may reach out: laylaharoon@intuned.ca \nregistration required • limited spaces
URL:https://soulcalm.ca/event/resonance-circle-%c2%b7-in-the-presence-of-love/
LOCATION:Lavender Lane Wellness Centre\, 215 Toman Drive\, Waterloo\, Ontario\, N2K4H1\, Canada
ATTACH;FMTTYPE=image/jpeg:https://soulcalm.ca/wp-content/uploads/2026/01/Capture.jpg
END:VEVENT
BEGIN:VEVENT
DTSTART;TZID=America/Toronto:20260228T130000
DTEND;TZID=America/Toronto:20260228T143000
DTSTAMP:20260419T161014
CREATED:20260203T144034Z
LAST-MODIFIED:20260203T144511Z
UID:245724-1772283600-1772289000@soulcalm.ca
SUMMARY:Pendulum Workshop
DESCRIPTION:Pendulum Workshop\nThis workshop is designed to teach the history\, how to use a pendulum\, and ways to practice your pendulum skills.    \nThe session will involve guided exercises\, demonstrations\, and personal practice time. \nBONUS – Pendulum Chart to take home for your personal use. \n  \nPurchase a pendulum at Lavender Lane before the workshop\, and we will discount your registration to only $20 \n			\n				BOOK NOW
URL:https://soulcalm.ca/event/pendulum-workshop/
LOCATION:Lavender Lane Wellness Centre\, 215 Toman Drive\, Waterloo\, Ontario\, N2K4H1\, Canada
CATEGORIES:WORKSHOP
ATTACH;FMTTYPE=image/png:https://soulcalm.ca/wp-content/uploads/2026/02/pendulum-1.png
END:VEVENT
BEGIN:VEVENT
DTSTART;TZID=America/Toronto:20260417T190000
DTEND;TZID=America/Toronto:20260417T200000
DTSTAMP:20260419T161014
CREATED:20240917T173739Z
LAST-MODIFIED:20260403T130851Z
UID:244587-1776452400-1776456000@soulcalm.ca
SUMMARY:Sacred Gathering
DESCRIPTION:Sacred Gathering: Wisdom\, Channeling & Presence \n\n\n\n\n\n\n\n\n\n\nA Free Community Gathering with Lynn & Brian \nThere are moments when something deeper calls…A quiet pull toward understanding\, connection\, and truth beyond the surface of everyday life.This gathering is an invitation into that space.Join Lynn and Brian for a powerful and heart-centred evening of exploration\, where conversation\, meditation\, and spiritual insight come together in a safe and supportive container.Through thoughtful discussion\, Brian will weave ideas\, teachings\, and reflections to invite a more profound understanding of life and consciousness. \nThrough channelling\, Lynn will invite George\, a wise and deeply perceptive Spirit Guide and Medicine Man to offer insight\, clarity\, and perspective from beyond the physical. \nGeorge brings a grounded yet expansive awareness—reminding us of who we are beneath the noise and what becomes possible when we lead with the heart. \nTogether\, we will gently quiet the external\, anchor into presence\, and explore from a higher ground of clarity and consciousness. \nPlease come with an open heart… and leave the ego at the door. \nThis is not about having answers. It’s about stepping into awareness\, insight\, and the experience of something greater. \nLynn and Brian bring not only their gifts but also a genuine love for this work and for creating spaces where others can feel seen\, supported\, and expanded. \nThis is a free event. All are welcome. \nCome as you are. Leave a little more connected.
URL:https://soulcalm.ca/event/sacredgathering/
LOCATION:Lavender Lane Wellness Centre\, 215 Toman Drive\, Waterloo\, Ontario\, N2K4H1\, Canada
CATEGORIES:Healing Circles
ATTACH;FMTTYPE=image/png:https://soulcalm.ca/wp-content/uploads/2026/03/Gemini_Generated_Image_hhhwsghhhwsghhhw-1.png
END:VEVENT
BEGIN:VEVENT
DTSTART;TZID=America/Toronto:20260419T010000
DTEND;TZID=America/Toronto:20260419T150000
DTSTAMP:20260419T161014
CREATED:20251106T190220Z
LAST-MODIFIED:20260327T123255Z
UID:245546-1776560400-1776610800@soulcalm.ca
SUMMARY:Reiki Share
DESCRIPTION:Reiki Share\n\n  \n\n\nJoin us at Lavender Lane Wellness Centre for a Reiki Share — a welcoming and supportive gathering where practitioners come together to give and receive healing energy. This is more than just a practice session; it’s a space to connect\, learn\, and grow within a community of like-minded healers. \n✨ What to Expect: \n\n\nGuided Meditation to center and ground the group \n\n\nHands-on Reiki Practice with rotations so everyone has the opportunity to both give and receive energy from multiple practitioners \n\n\nSharing Best Practices & Tools: Exchange tips\, techniques\, and insights to enhance your Reiki practice \n\n\nReflections & Discussion: Learn from others’ experiences and deepen your understanding of Reiki \n\n\n️ Benefits:Participants often leave feeling relaxed\, renewed\, and balanced. Reiki Shares are a chance to hone your skills\, explore new approaches\, and honor the energy of others in a supportive\, friendly environment. \n Who Can Attend:Open to all who have completed at least Reiki Level I. Beginners and seasoned practitioners alike are welcome to participate\, learn\, and share. \nCome with an open heart\, a willingness to learn\, and leave feeling connected\, inspired\, and energized. \nBOOK NOW
URL:https://soulcalm.ca/event/reiki-share/
LOCATION:Lavender Lane Wellness Centre\, 215 Toman Drive\, Waterloo\, Ontario\, N2K4H1\, Canada
CATEGORIES:WORKSHOP
ATTACH;FMTTYPE=image/jpeg:https://soulcalm.ca/wp-content/uploads/2025/11/Reiki-Share-monthly.jpg
END:VEVENT
BEGIN:VEVENT
DTSTART;TZID=America/Toronto:20260421T180000
DTEND;TZID=America/Toronto:20260421T210000
DTSTAMP:20260419T161014
CREATED:20260327T122050Z
LAST-MODIFIED:20260327T123407Z
UID:245792-1776794400-1776805200@soulcalm.ca
SUMMARY:Exploring Wellness
DESCRIPTION:Exploring Wellness: Reiki Sessions \nCurious about energy healing? This is your opportunity to experience Reiki in a gentle\, accessible way. \nJoin us for Exploring Wellness\, where you can enjoy a 30-minute Reiki session designed to help you relax\, reset\, and reconnect. Whether you’re new to Reiki or simply in need of a moment of calm\, this offering creates space for balance and restoration. \nReiki works to support your body’s natural healing processes\, easing stress\, calming the mind\, and promoting a sense of overall well-being. \nDetails:• 30-minute Reiki session• $40 per session \nCome as you are\, and take a meaningful pause for yourself. \nSpots are limited — reserve your session and experience the subtle yet powerful benefits of Reiki. \n  \n  \nBOOK NOW
URL:https://soulcalm.ca/event/exploring-wellness/
LOCATION:Lavender Lane Wellness Centre\, 215 Toman Drive\, Waterloo\, Ontario\, N2K4H1\, Canada
CATEGORIES:Exploring Wellness
ATTACH;FMTTYPE=image/png:https://soulcalm.ca/wp-content/uploads/2024/12/REIKI.png
END:VEVENT
END:VCALENDAR