BEGIN:VCALENDAR
VERSION:2.0
PRODID:-//soulcalm - ECPv6.15.20//NONSGML v1.0//EN
CALSCALE:GREGORIAN
METHOD:PUBLISH
X-WR-CALNAME:soulcalm
X-ORIGINAL-URL:https://soulcalm.ca
X-WR-CALDESC:Events for soulcalm
REFRESH-INTERVAL;VALUE=DURATION:PT1H
X-Robots-Tag:noindex
X-PUBLISHED-TTL:PT1H
BEGIN:VTIMEZONE
TZID:America/Toronto
BEGIN:DAYLIGHT
TZOFFSETFROM:-0500
TZOFFSETTO:-0400
TZNAME:EDT
DTSTART:20250309T070000
END:DAYLIGHT
BEGIN:STANDARD
TZOFFSETFROM:-0400
TZOFFSETTO:-0500
TZNAME:EST
DTSTART:20251102T060000
END:STANDARD
BEGIN:DAYLIGHT
TZOFFSETFROM:-0500
TZOFFSETTO:-0400
TZNAME:EDT
DTSTART:20260308T070000
END:DAYLIGHT
BEGIN:STANDARD
TZOFFSETFROM:-0400
TZOFFSETTO:-0500
TZNAME:EST
DTSTART:20261101T060000
END:STANDARD
BEGIN:DAYLIGHT
TZOFFSETFROM:-0500
TZOFFSETTO:-0400
TZNAME:EDT
DTSTART:20270314T070000
END:DAYLIGHT
BEGIN:STANDARD
TZOFFSETFROM:-0400
TZOFFSETTO:-0500
TZNAME:EST
DTSTART:20271107T060000
END:STANDARD
END:VTIMEZONE
BEGIN:VEVENT
DTSTART;TZID=America/Toronto:20260421T180000
DTEND;TZID=America/Toronto:20260421T210000
DTSTAMP:20260419T081820
CREATED:20260327T122050Z
LAST-MODIFIED:20260327T123407Z
UID:245792-1776794400-1776805200@soulcalm.ca
SUMMARY:Exploring Wellness
DESCRIPTION:Exploring Wellness: Reiki Sessions \nCurious about energy healing? This is your opportunity to experience Reiki in a gentle\, accessible way. \nJoin us for Exploring Wellness\, where you can enjoy a 30-minute Reiki session designed to help you relax\, reset\, and reconnect. Whether you’re new to Reiki or simply in need of a moment of calm\, this offering creates space for balance and restoration. \nReiki works to support your body’s natural healing processes\, easing stress\, calming the mind\, and promoting a sense of overall well-being. \nDetails:• 30-minute Reiki session• $40 per session \nCome as you are\, and take a meaningful pause for yourself. \nSpots are limited — reserve your session and experience the subtle yet powerful benefits of Reiki. \n  \n  \nBOOK NOW
URL:https://soulcalm.ca/event/exploring-wellness/
LOCATION:Lavender Lane Wellness Centre\, 215 Toman Drive\, Waterloo\, Ontario\, N2K4H1\, Canada
CATEGORIES:Exploring Wellness
ATTACH;FMTTYPE=image/png:https://soulcalm.ca/wp-content/uploads/2024/12/REIKI.png
END:VEVENT
END:VCALENDAR